BEGIN:VCALENDAR
VERSION:2.0
PRODID:-//Nepalese Society, Texas - ECPv6.15.20//NONSGML v1.0//EN
CALSCALE:GREGORIAN
METHOD:PUBLISH
X-ORIGINAL-URL:https://ournst.org
X-WR-CALDESC:Events for Nepalese Society, Texas
REFRESH-INTERVAL;VALUE=DURATION:PT1H
X-Robots-Tag:noindex
X-PUBLISHED-TTL:PT1H
BEGIN:VTIMEZONE
TZID:Europe/London
BEGIN:DAYLIGHT
TZOFFSETFROM:+0000
TZOFFSETTO:+0100
TZNAME:BST
DTSTART:20240331T010000
END:DAYLIGHT
BEGIN:STANDARD
TZOFFSETFROM:+0100
TZOFFSETTO:+0000
TZNAME:GMT
DTSTART:20241027T010000
END:STANDARD
BEGIN:DAYLIGHT
TZOFFSETFROM:+0000
TZOFFSETTO:+0100
TZNAME:BST
DTSTART:20250330T010000
END:DAYLIGHT
BEGIN:STANDARD
TZOFFSETFROM:+0100
TZOFFSETTO:+0000
TZNAME:GMT
DTSTART:20251026T010000
END:STANDARD
BEGIN:DAYLIGHT
TZOFFSETFROM:+0000
TZOFFSETTO:+0100
TZNAME:BST
DTSTART:20260329T010000
END:DAYLIGHT
BEGIN:STANDARD
TZOFFSETFROM:+0100
TZOFFSETTO:+0000
TZNAME:GMT
DTSTART:20261025T010000
END:STANDARD
END:VTIMEZONE
BEGIN:VEVENT
DTSTART;VALUE=DATE:20250719
DTEND;VALUE=DATE:20250721
DTSTAMP:20260423T121430
CREATED:20250426T222244Z
LAST-MODIFIED:20250426T222244Z
UID:21246763-1752883200-1753055999@ournst.org
SUMMARY:NST Interstate Volleyball Cup
DESCRIPTION:We are thrilled to announce the upcoming NST Interstate Volleyball Cup\, and we are eagerly looking forward to your participation! This exciting event promises high-energy matches\, incredible talent\, and a spirit of sportsmanship that brings teams together from across the States. Your presence would not only add to the competitive thrill but also help make this event truly grand and memorable. Let’s come together to celebrate the love for volleyball and make this tournament a resounding success! CALLING ALL VOLLEYBALL CHAMPIONS! Are you ready to serve\, spike\, and win BIG? NST INTERSTATE VOLLEYBALL CUP 2025 Presented by: Nepalese Society of Texas Date: July 19–20 Time: 8:00 AM – 6:00 PM Location: Texas Image Volleyball\, Grand Prairie\, TX Prizes: 1st Place – $8000 2nd Place – $5000 3rd Place – $2000 Registration Fee: $600 per team Deadline: June 22 This is more than just a game — it’s pride\, passion\, and power on the court! Gather your squad Scan the QR code And claim your spot in the biggest Nepali volleyball event in Dallas\, Texas! \nRegistration Link #NSTVolleyballCup2025 #NepaliPride #VolleyballBattle #NSTTexas #SpikeForGlory
URL:https://ournst.org/nst-event/nst-interstate-volleyball-cup/
LOCATION:Dallas\, Texas\, Dallas\, TX\, 75261\, United States
CATEGORIES:Games
ATTACH;FMTTYPE=image/jpeg:https://ournst.org/wp-content/uploads/2025/04/NST-VolleyBall-Cup-2025.jpg
END:VEVENT
END:VCALENDAR